BEGIN:VCALENDAR
VERSION:2.0
PRODID:-//AudioTheme 3.0.2
BEGIN:VEVENT
UID:urn:uuid:de29fab2-7468-43c4-ad79-c2e88f0a94a8
URL:https://zuercher-kammeroper.ch/shows/2025-12-31/
DTSTART;TZID=GMT:20251231T160000
SUMMARY:Gaetano Donizetti «Don Gregorio»  (Première)
DESCRIPTION:Mittwoch\, 17:00 Uhr - <b>Gaetano Donizetti «Don Gregorio»</b><br>(Première)
LOCATION:Gemeindesaal Zollikon\, Rotfluhstrasse 96\, Zollikon\, \, Schweiz\, 8702
END:VEVENT
END:VCALENDAR
