BEGIN:VCALENDAR
VERSION:2.0
PRODID:-//AudioTheme 3.0.2
BEGIN:VEVENT
UID:urn:uuid:b95b0b6c-51d2-471f-85a2-1e588a688eb1
URL:https://zuercher-kammeroper.ch/shows/gaetano-donizetti-don-gregorio-6/
DTSTART;TZID=GMT:20260118T140000
SUMMARY:Gaetano Donizetti «Don Gregorio» (Dernière)
DESCRIPTION:Sonntag\, 15:00 Uhr - <b>Gaetano Donizetti «Don Gregorio»</b><br>(Dernière)
LOCATION:Gemeindesaal Zollikon\, Rotfluhstrasse 96\, Zollikon\, \, Schweiz\, 8702
END:VEVENT
END:VCALENDAR
