BEGIN:VCALENDAR
VERSION:2.0
PRODID:-//AudioTheme 3.0.2
BEGIN:VEVENT
UID:urn:uuid:9d7a4c06-b964-49a1-8bd3-87ca097f3155
URL:https://zuercher-kammeroper.ch/shows/jacques-offenbach-un-mari-a-la-porte-ba-ta-clan-5/
DTSTART;TZID=GMT:20250112T140000
SUMMARY:Jacques Offenbach «Un Mari à la Porte» & «Ba-Ta-Clan» (Dernière)
DESCRIPTION:«Un Mari à la Porte» & «Ba-Ta-Clan» (Dernière)
LOCATION:Gemeindesaal Zollikon\, Rotfluhstrasse 96\, Zollikon\, \, Schweiz\, 8702
END:VEVENT
END:VCALENDAR
